Workbook

Sheet ПРИВЕТСТВИЕ! 
G1: Уважаемый коллега!
G3: Мы рады приветствовать вас в сервисе самодиагностики. Для прохождения диагностики Вам нужно открыть поочередно три страницы данного файла: ТФ Обучение, ТФ Воспитательная деятельность и ТФ Развивающая деятельность. В соответствии с инструкцией в верхней части листа заполнить самооценочный лист и перейти к странице "итоговые результаты и диаграммы". Там Вы увидите, насколько Вы соответствуете требованиям профессионального стандарта педагога и с какими областями необходимо работать.
G4: Удачной работы!

Sheet ТФ ОБУЧЕНИЕ
A1: Оцените свое соответствие профессиональному стандарту
A2: Для этого произведите самооценку своей профессиональной деятельности в соответствии с предложенными показателями по трех балльной шкале: 0 баллов - я это не умею делать (делаю крайне редко) / не знаю/ сомневаюсь, 1 балл - делаю, но не всегда уверен, что правильно / знаю, но не полностью, 2 - делаю хорошо/ отлично знаю | C2: Мои баллы | E2: Моя степень соответствия стандарту (в %)
A3: Трудовая функция: ОБУЧЕНИЕ | C3: В этой графе поставьте напротив каждой позиции свою оценку от 0 до 2 баллов | E3: =SUM(C4:C32)*100/58 -> 0
A4: Трудовые действия | B4: 1.Разработка и реализация программ учебных дисциплин в рамках основной общеобразовательной программы | E4: Максимальный балл | F4: 20
B5: 2 Осуществление профессиональной деятельности в соответствии с требованиями федеральных государственных образовательных стандартов дошкольного, начального общего, основного общего, среднего общего образования
B6: 3. Участие в разработке и реализации программы развития образовательной организации в целях создания безопасной и комфортной образовательной среды
B7: 4. Планирование и проведение учебных занятий
B8: 5. Систематический анализ эффективности учебных занятий и подходов к обучению
B9: 6.Организация, осуществление контроля и оценки учебных достижений, текущих и итоговых результатов освоения основной образовательной программы обучающимися
B10: 7.Формирование универсальных учебных действий
B11: 8.Формирование навыков, связанных с информационно-коммуникационными технологиями (далее – ИКТ)
B12: 9. Формирование мотивации к обучению
B13: 10. Объективная оценка знаний обучающихся на основе тестирования и других методов контроля в соответствии с реальными учебными возможностями детей | E13: Промежуточный балл по трудовым действиям | F13: =SUM(C4:C13) -> 0
A14: Необходимые умения | B14: 11. Владеть формами и методами обучения, в том числе выходящими за рамки учебных занятий: проектная деятельность, лабораторные эксперименты, полевая практика и т.п. | E14: Максимальный балл | F14: 16
B15: 12 Объективно оценивать знания обучающихся на основе тестирования и других методов контроля в соответствии с реальными учебными возможностями детей
B16: 13 Разрабатывать (осваивать) и применять современные психолого-педагогические технологии, основанные на знании законов развития личности и поведения в реальной и виртуальной среде
B17: 14 Использовать и апробировать специальные подходы к обучению в целях включения в образовательный процесс всех обучающихся, в том числе с особыми потребностями в образовании: обучающихся, проявивших выдающиеся способности; обучающихся, для которых русский язык не является родным; обучающихся с ограниченными возможностями здоровья
B18: 15.Владеть общепользовательской ИКТ-компетентностью;
B19: 16.Владеть общепедагогической ИКТ-компетентностью;
B20: 17. Владеть предметно-педагогической ИКТ-компетентностью (отражающей профессиональную ИКТ-компетентность соответствующей области человеческой деятельности)
B21: 18. Организовывать различные виды внеурочной деятельности: игровую, учебно-исследовательскую, художественно-продуктивную, культурно-досуговую с учетом возможностей образовательной организации, места жительства и историко-культурного своеобразия региона | E21: Промежуточный балл по необходимым умениям | F21: =SUM(C14:C21) -> 0
A22: Необходимые знания | B22: 19. Преподаваемый предмет в пределах требований федеральных государственных образовательных стандартов и основной общеобразовательной программы, его истории и места в мировой культуре и науке | E22: Максимальный балл | F22: 22
B23: 20. История, теория, закономерности и принципы построения и функционирования образовательных систем, роль и место образования в жизни личности и общества
B24: 21. Основные закономерности возрастного развития, стадии и кризисы развития, социализация личности, индикаторы индивидуальных особенностей траекторий жизни, их возможные девиации, а также основы их психодиагностики
B25: 22.Основы психодидактики, поликультурного образования, закономерностей поведения в социальных сетях
B26: 23.Пути достижения образовательных результатов и способы оценки результатов обучения
B27: 24. Основы методики преподавания, основные принципы деятельностного подхода, виды и приемы современных педагогических технологий
B28: 25. Рабочая программа и методика обучения по данному предмету
B29: 26. Приоритетные направления развития образовательной системы Российской Федерации, законов и иных нормативных правовых актов, регламентирующих образовательную деятельность в Российской Федерации, нормативных документов по вопросам обучения и воспитания детей и молодежи, федеральных государственных образовательных стандартов дошкольного, начального общего, основного общего, среднего общего образования, законодательства о правах ребенка, трудового законодательства
B30: 27. Нормативные документы по вопросам обучения и воспитания детей и молодежи
B31: 28.Конвенция о правах ребенка
B32: 29. Трудовое законодательство | E32: Промежуточный балл по необходимым знаниям | F32: =SUM(C22:C32) -> 0

Sheet ТФ ВОСПИТАТЕЛЬНАЯ деятельность
A1: Оцените свое соответствие профессиональному стандарту
A2: Для этого произведите самооценку своей профессиональной деятельности в соответствии с предложенными показателями по трех балльной шкале: 0 баллов - я это не умею делать (делаю крайне редко) / не знаю, 1 балл - делаю, но не всегда уверен, что правильно / знаю, но не полностью, 2 - делаю хорошо/ отлично знаю | C2: Мои баллы | E2: Моя степень соответствия стандарту (в %)
A3: Трудовая функция: ВОСПИТАТЕЛЬНАЯ ДЕЯТЕЛЬНОСТЬ | C3: В этой графе поставьте напротив каждой позиции свою оценку от 0 до 2 баллов | E3: =SUM(C4:C31)*100/56 -> 0
A4: Трудовые действия | B4: 1. Регулирование поведения обучающихся для обеспечения безопасной образовательной среды | E4: Максимальный балл | F4: 24
B5: 2. Реализация современных, в том числе интерактивных, форм и методов воспитательной работы, используя их как на занятии, так и во внеурочной деятельности
B6: 3. Постановка воспитательных целей, способствующих развитию обучающихся, независимо от их способностей и характера
B7: 4. Определение и принятие четких правил поведения обучающимися в соответствии с уставом образовательной организации и правилами внутреннего распорядка образовательной организации
B8: 5. Проектирование и реализация воспитательных программ
B9: 6. Реализация воспитательных возможностей различных видов деятельности ребенка (учебной, игровой, трудовой, спортивной, художественной и т.д.)
B10: 7. Проектирование ситуаций и событий, развивающих эмоционально-ценностную сферу ребенка (культуру переживаний и ценностные ориентации ребенка)
B11: 8. Помощь и поддержка в организации деятельности ученических органов самоуправления
B12: 9. Создание, поддержание уклада, атмосферы и традиций жизни образовательной организации
B13: 10.Развитие у обучающихся познавательной активности, самостоятельности, инициативы, творческих способностей, формирование гражданской позиции, способности к труду и жизни в условиях современного мира, формирование у обучающихся культуры здорового и безопасного образа жизни
B14: 11Формирование уважения и понимания другого "Я" и формирование навыков поведения в изменяющейся поликультурной среде
B15: 12Использование конструктивных воспитательных усилий родителей (законных представителей) обучающихся, помощь семье в решении вопросов воспитания ребенка | E15: Промежуточный балл по трудовым действиям | F15: =SUM(C4:C15) -> 0
A16: Необходимые умения | B16: 13Строить воспитательную деятельность с учетом культурных различий детей, половозрастных и индивидуальных особенностей | E16: Максимальный балл | F16: 18
B17: 14Общаться с детьми, признавать их достоинство, понимая и принимая их
B18: 15.Создавать в учебных группах (классе, кружке, секции и т.п.) разновозрастные детско-взрослые общности обучающихся, их родителей (законных представителей) и педагогических работников
B19: 16.Управлять учебными группами с целью вовлечения обучающихся в процесс обучения и воспитания, мотивируя их учебно-познавательную деятельность
B20: 17Анализировать реальное состояние дел в учебной группе, поддерживать в детском коллективе деловую, дружелюбную атмосферу
B21: 18. Защищать достоинство и интересы обучающихся, помогать детям, оказавшимся в конфликтной ситуации и/или неблагоприятных условиях
B22: 19.Находить ценностный аспект учебного знания и информации обеспечивать его понимание и переживание обучающимися
B23: 20Владеть методами организации экскурсий, походов и экспедиций и т.п.
B24: 21Сотрудничать с другими педагогическими работниками и другими специалистами в решении воспитательных задач | E24: Промежуточный балл по необходимым умениям | F24: =SUM(C16:C24) -> 0
A25: Необходимые знания | B25: 22Основы законодательства о правах ребенка, законы в сфере образования и федеральные государственные образовательные стандарты общего образования | E25: Максимальный балл | F25: 14
B26: 23. История, теория, закономерности и принципы построения и функционирования образовательных (педагогических) систем, роль и место образования в жизни личности и общества
B27: 24. Основы психодидактики, поликультурного образования, закономерностей поведения в социальных сетях
B28: 25.Основные закономерности возрастного развития, стадии и кризисы развития и социализации личности, индикаторы и индивидуальные особенности траекторий жизни и их возможные девиации, приемы их диагностики
B29: 26.Научное представление о результатах образования, путях их достижения и способах оценки
B30: 27.Основы методики воспитательной работы, основные принципы деятельностного подхода, виды и приемы современных педагогических технологий
B31: 28.Нормативные правовые, руководящие и инструктивные документы, регулирующие организацию и проведение мероприятий за пределами территории образовательной организации (экскурсий, походов и экспедиций) | E31: Промежуточный балл по необходимым знаниям | F31: =SUM(C25:C31) -> 0

Sheet ТФ РАЗВИВАЮЩАЯ деятельность 
A1: Оцените свое соответствие профессиональному стандарту
A2: Для этого произведите самооценку своей профессиональной деятельности в соответствии с предложенными показателями по трех балльной шкале: 0 баллов - я это не умею делать (делаю крайне редко) / не знаю, 1 балл - делаю, но не всегда уверен, что правильно / знаю, но не полностью, 2 - делаю хорошо/ отлично знаю | C2: Мои баллы | E2: Моя степень соответствия стандарту (в %)
A3: Трудовая функция: РАЗВИВАЮЩАЯ ДЕЯТЕЛЬНОСТЬ | C3: В этой графе поставьте напротив каждой позиции свою оценку от 0 до 2 баллов | E3: =SUM(C4:C30)*100/54 -> 0
A4: Трудовые действия | B4: 1. Выявление в ходе наблюдения поведенческих и личностных проблем обучающихся, связанных с особенностями их развития | E4: Максимальный балл | F4: 22
B5: 2. Оценка параметров и проектирование психологически безопасной и комфортной образовательной среды, разработка программ профилактики различных форм насилия в школе
B6: 3. Применение инструментария и методов диагностики и оценки показателей уровня и динамики развития ребенка
B7: 4. Освоение и применение психолого-педагогических технологий (в том числе инклюзивных), необходимых для адресной работы с различными контингентами учащихся: одаренные дети, социально уязвимые дети, дети, попавшие в трудные жизненные ситуации, дети-мигранты, дети-сироты, дети с особыми образовательными потребностями (аутисты, дети с синдромом дефицита внимания и гиперактивностью и др.), дети с ограниченными возможностями здоровья, дети с девиациями поведения, дети с зависимостью
B8: 5. Оказание адресной помощи обучающимся
B9: 6. Взаимодействие с другими специалистами в рамках психолого-медико-педагогического консилиума
B10: 7. Разработка (совместно с другими специалистами) и реализация совместно с родителями (законными представителями) программ индивидуального развития ребенка
B11: 8. Освоение и адекватное применение специальных технологий и методов, позволяющих проводить коррекционно-развивающую работу
B12: 9. Развитие у обучающихся познавательной активности, самостоятельности, инициативы, творческих способностей, формирование гражданской позиции, способности к труду и жизни в условиях современного мира, формирование у обучающихся культуры здорового и безопасного образа жизни
B13: 10. Формирование и реализация программ развития универсальных учебных действий, образцов и ценностей социального поведения, навыков поведения в мире виртуальной реальности и социальных сетях, формирование уважение к другому человеку и позитивных образцов поликультурного общения
B14: 11. Формирование системы регуляции поведения и деятельности обучающихся | E14: Промежуточный балл по трудовым действиям | F14: =SUM(C4:C14) -> 0
A15: Необходимые умения | B15: 12Владеть профессиональной установкой на оказание помощи любому ребенку вне зависимости от его реальных учебных возможностей, особенностей в поведении, состояния психического и физического здоровья | E15: Максимальный балл | F15: 18
B16: 13.Использовать в практике своей работы психологические подходы: культурно-исторический, деятельностный и развивающий
B17: 14.Осуществлять (совместно с психологом и другими специалистами) психолого-педагогическое сопровождение основных общеобразовательных программ
B18: 15. Понимать документацию специалистов (психологов, дефектологов, логопедов и т.д.)
B19: 16. Составить (совместно с психологом и другими специалистами) психолого-педагогическую характеристику (портрет) личности обучающегося
B20: 17Разрабатывать и реализовывать индивидуальные образовательные маршруты, индивидуальные программы развития и индивидуально-ориентированные образовательные программы с учетом личностных и возрастных особенностей обучающихся
B21: 18.Владеть стандартизированными методами психодиагностики личностных характеристик и возрастных особенностей обучающихся
B22: 19. Оценивать образовательные результаты: формируемые в преподаваемом предмете предметные и метапредметные компетенции, а также осуществлять (совместно с психологом) мониторинг личностных характеристик
B23: 20.Формировать детско-взрослые сообщества | E23: Промежуточный балл по необходимым умениям | F23: =SUM(C15:C23) -> 0
A24: Необходимые знания | B24: 21. Педагогические закономерности организации образовательного процесса | E24: Максимальный балл | F24: 14
B25: 22. Законы развития личности и проявления личностных свойств, психологические законы периодизации и кризисов развития
B26: 23. Теория и технологии учета возрастных особенностей обучающихся
B27: 24. Закономерности формирования детско-взрослых сообществ, их социально-психологических особенности и закономерности развития детских и подростковых сообществ
B28: 25. Основные закономерности семейных отношений, позволяющие эффективно работать с родительской общественностью
B29: 26. Основы психодиагностики и основные признаки отклонения в развитии детей
B30: 27. Социально-психологические особенности и закономерности развития детско-взрослых сообществ | E30: Промежуточный балл по необходимым знаниям | F30: =SUM(C24:C30) -> 0

Sheet Итоговые результаты и диаграммы
A1: Итоговая таблица Ваших баллов
C2: Обучение | D2: Воспитательная деятельность | E2: Развивающая деятельность | F2: Степень соответствия стандарту по умениям, действиям, знаниям
A3: Трудовые действия | C3: ='ТФ ОБУЧЕНИЕ'!F13 -> 0 | D3: ='ТФ ВОСПИТАТЕЛЬНАЯ деятельность'!F15 -> 0 | E3: ='ТФ РАЗВИВАЮЩАЯ деятельность '!F14 -> 0 | F3: =SUM(C3:E3)*100/66 -> 0
A4: Необходимые умения | C4: ='ТФ ОБУЧЕНИЕ'!F21 -> 0 | D4: ='ТФ ВОСПИТАТЕЛЬНАЯ деятельность'!F24 -> 0 | E4: ='ТФ РАЗВИВАЮЩАЯ деятельность '!F23 -> 0 | F4: =SUM(C4:E4)*100/52 -> 0
A5: Необходимые знания | C5: ='ТФ ОБУЧЕНИЕ'!F32 -> 0 | D5: ='ТФ ВОСПИТАТЕЛЬНАЯ деятельность'!F31 -> 0 | E5: ='ТФ РАЗВИВАЮЩАЯ деятельность '!F30 -> 0 | F5: =SUM(C5:E5)*100/50 -> 0
A6: Степень соответствия стандарту по трудовым функциям | C6: =SUM(C3:C5)*100/58 -> 0 | D6: =SUM(D3:D5)*100/56 -> 0 | E6: =SUM(E3:E5)*100/54 -> 0
A18: Диаграмма "Степень соотвествия профессиональному стандарту по отдельным трудовым функциям" | E18: Диаграмма "Степень соответствия профессиональному стандарту по трудовым действиям (1), необходимым умениям (2), необходимым знаниям (3)
